BEGIN:VCALENDAR
VERSION:2.0
PRODID:-//Środa Śląska - ECPv6.15.14//NONSGML v1.0//EN
CALSCALE:GREGORIAN
METHOD:PUBLISH
X-WR-CALNAME:Środa Śląska
X-ORIGINAL-URL:https://srodaslaska.pl
X-WR-CALDESC:Wydarzenia dla Środa Śląska
REFRESH-INTERVAL;VALUE=DURATION:PT1H
X-Robots-Tag:noindex
X-PUBLISHED-TTL:PT1H
BEGIN:VTIMEZONE
TZID:Europe/Warsaw
BEGIN:DAYLIGHT
TZOFFSETFROM:+0100
TZOFFSETTO:+0200
TZNAME:CEST
DTSTART:20250330T010000
END:DAYLIGHT
BEGIN:STANDARD
TZOFFSETFROM:+0200
TZOFFSETTO:+0100
TZNAME:CET
DTSTART:20251026T010000
END:STANDARD
BEGIN:DAYLIGHT
TZOFFSETFROM:+0100
TZOFFSETTO:+0200
TZNAME:CEST
DTSTART:20260329T010000
END:DAYLIGHT
BEGIN:STANDARD
TZOFFSETFROM:+0200
TZOFFSETTO:+0100
TZNAME:CET
DTSTART:20261025T010000
END:STANDARD
BEGIN:DAYLIGHT
TZOFFSETFROM:+0100
TZOFFSETTO:+0200
TZNAME:CEST
DTSTART:20270328T010000
END:DAYLIGHT
BEGIN:STANDARD
TZOFFSETFROM:+0200
TZOFFSETTO:+0100
TZNAME:CET
DTSTART:20271031T010000
END:STANDARD
END:VTIMEZONE
BEGIN:VEVENT
DTSTART;TZID=Europe/Warsaw:20260422T160000
DTEND;TZID=Europe/Warsaw:20260422T190000
DTSTAMP:20260421T172752
CREATED:20260116T092440Z
LAST-MODIFIED:20260330T092552Z
UID:27915-1776873600-1776884400@srodaslaska.pl
SUMMARY:Dzień Ziemi ze Średzką Zielenią
DESCRIPTION:DZIEŃ ZIEMI 2026 w Środzie Śląskiej!  \n  \n\n\n\nJuż 22 kwietnia (środa) w godzinach 16:00–19:00 zapraszamy Was serdecznie na wyjątkowe\, międzypokoleniowe wydarzenie na Rynku Dolnym w Środzie Śląskiej \n\n\n\nTo nie będzie zwykła impreza – to wspólna inicjatywa lokalnych instytucji i ludzi z pasją\, którzy chcą działać dla środowiska i naszej społeczności. \n\n\nW organizację wydarzenia zaangażowali się:  Średzka Zieleń\,  Biblioteka Publiczna w Środzie Śląskiej\,  Hufiec ZHP Środa Śląska\,  Miasto i Gmina Środa Śląska oraz  Dom Kultury w Środzie Śląskiej. Razem w tym dniu stworzymy przestrzeń do nauki\, zabawy i inspiracji! \n\n\n\n\n Co przygotowaliśmy? \n\nCzeka na Was mnóstwo atrakcji dla dzieci\, młodzieży i dorosłych:\n warsztaty tworzenia eko-toreb\, pudełkowych ogródków i kreatywnych przedmiotów\n działania biblioteczne: czytanie EKO\, zielony quiz czytelniczy i tworzenie zakładek\n malowanie kamyczków\, eco puzzle i wytłaczankowe czary\n quiz wiedzy o ekologii z atrakcyjnymi nagrodami\n zmywalne tatuaże\, malowanie buziek i zaplatanie warkoczyków\n wspólne tworzenie ogromnej\, kwiecistej łąki na płótnie\n\n wiosenny poczęstunek od father&son the art of Mexican food \n\n\n\nNa miejscu znajdziecie również wyjątkowe stoiska:\n rośliny i kwiaty od lokalnej szkółki roślin ozdobnych Stefanogród\n naturalne miody i wyrobu pszczelarskie z „Pasieki u Jakuba”\n\n „Thrift-Flip” – czyli moda w duchu upcyclingu (17:00–19:00) \n\n\n\n SCENA – coś dla ciała i ducha:\n 16:45 – warsztaty pilatesowe z URAN Pilates Studio\n 17:30 – pokaz mody Zero Waste\n\n 18:15 – warsztaty pilates z URAN Pilates Studio \n\n\n\n\n To doskonała okazja\, by spędzić czas razem\, nauczyć się czegoś nowego i zadbać o naszą planetę w praktyczny\, przyjemny sposób. \n\n Przyjdź z rodziną\, znajomymi – bądź częścią tej zielonej inicjatywy!
URL:https://srodaslaska.pl/event/dzien-ziemi-ze-sredzka-zielenia-odbierz-swoja-sadzonke/
LOCATION:Rynek Dolny\, Środa Śląska
ATTACH;FMTTYPE=image/jpeg:https://srodaslaska.pl/wp-content/uploads/2026/01/657563365_122127186447079905_3766763623634781836_n-scaled.jpg
END:VEVENT
BEGIN:VEVENT
DTSTART;VALUE=DATE:20260501
DTEND;VALUE=DATE:20260502
DTSTAMP:20260421T172752
CREATED:20260116T092602Z
LAST-MODIFIED:20260116T092602Z
UID:27919-1777593600-1777679999@srodaslaska.pl
SUMMARY:Bieg po TOWAR - Impreza w stylu PRL
DESCRIPTION:
URL:https://srodaslaska.pl/event/bieg-po-towar-impreza-w-stylu-prl/
LOCATION:Ośrodek Sportu i Rekreacji\, ul. Winogronowa 34\, Środa Śląska\, 55-300\, Poland
ORGANIZER;CN="O%C5%9Brodek Sportu i Rekreacji":MAILTO:centrum@osirsrodaslaska.pl
END:VEVENT
BEGIN:VEVENT
DTSTART;VALUE=DATE:20260503
DTEND;VALUE=DATE:20260504
DTSTAMP:20260421T172752
CREATED:20260116T092658Z
LAST-MODIFIED:20260116T092658Z
UID:27921-1777766400-1777852799@srodaslaska.pl
SUMMARY:Święto Konstytucji 3-Maja
DESCRIPTION:
URL:https://srodaslaska.pl/event/swieto-konstytucji-3-maja-2/
LOCATION:Rynek Dolny\, Środa Śląska
END:VEVENT
BEGIN:VEVENT
DTSTART;TZID=Europe/Warsaw:20260508T080000
DTEND;TZID=Europe/Warsaw:20260515T170000
DTSTAMP:20260421T172752
CREATED:20260116T092744Z
LAST-MODIFIED:20260116T092744Z
UID:27923-1778227200-1778864400@srodaslaska.pl
SUMMARY:Tydzień Bibliotek
DESCRIPTION:
URL:https://srodaslaska.pl/event/tydzien-bibliotek/
LOCATION:Biblioteka Publiczna w Środzie Śląskiej\, Plac Wolności 58\, Środa Śląska\, 55-300\, Poland
END:VEVENT
BEGIN:VEVENT
DTSTART;VALUE=DATE:20260516
DTEND;VALUE=DATE:20260517
DTSTAMP:20260421T172752
CREATED:20260116T092821Z
LAST-MODIFIED:20260116T092821Z
UID:27925-1778889600-1778975999@srodaslaska.pl
SUMMARY:IV Średzki Brevet “O złotego Florena”
DESCRIPTION:
URL:https://srodaslaska.pl/event/iv-sredzki-brevet-o-zlotego-florena/
LOCATION:Ośrodek Sportu i Rekreacji\, ul. Winogronowa 34\, Środa Śląska\, 55-300\, Poland
ORGANIZER;CN="O%C5%9Brodek Sportu i Rekreacji":MAILTO:centrum@osirsrodaslaska.pl
END:VEVENT
BEGIN:VEVENT
DTSTART;VALUE=DATE:20260516
DTEND;VALUE=DATE:20260517
DTSTAMP:20260421T172752
CREATED:20260116T092857Z
LAST-MODIFIED:20260116T092857Z
UID:27927-1778889600-1778975999@srodaslaska.pl
SUMMARY:Rodzinny Marsz na Orientację
DESCRIPTION:
URL:https://srodaslaska.pl/event/rodzinny-marsz-na-orientacje/
LOCATION:Ośrodek Sportu i Rekreacji\, ul. Winogronowa 34\, Środa Śląska\, 55-300\, Poland
ORGANIZER;CN="O%C5%9Brodek Sportu i Rekreacji":MAILTO:centrum@osirsrodaslaska.pl
END:VEVENT
BEGIN:VEVENT
DTSTART;VALUE=DATE:20260531
DTEND;VALUE=DATE:20260601
DTSTAMP:20260421T172752
CREATED:20260116T093004Z
LAST-MODIFIED:20260116T093004Z
UID:27929-1780185600-1780271999@srodaslaska.pl
SUMMARY:Otwarcie Przystani KAJAKI\, Dzień Dziecka z OSiR-em
DESCRIPTION:
URL:https://srodaslaska.pl/event/otwarcie-przystani-kajaki-dzien-dziecka-z-osir-em/
LOCATION:Akwen Kajaki\, ul. Winogronowa\, Środa Śląska\, 55-300\, Poland
END:VEVENT
BEGIN:VEVENT
DTSTART;VALUE=DATE:20260606
DTEND;VALUE=DATE:20260607
DTSTAMP:20260421T172752
CREATED:20260116T093106Z
LAST-MODIFIED:20260116T093106Z
UID:27932-1780704000-1780790399@srodaslaska.pl
SUMMARY:II Bieg Wirtualny z cyklu Poznaj historię Skarbu Średzkiego "Dzban pełen monet 1985 r."
DESCRIPTION:
URL:https://srodaslaska.pl/event/ii-bieg-wirtualny-z-cyklu-poznaj-historie-skarbu-sredzkiego-dzban-pelen-monet-1985-r/
LOCATION:Ośrodek Sportu i Rekreacji\, ul. Winogronowa 34\, Środa Śląska\, 55-300\, Poland
ORGANIZER;CN="O%C5%9Brodek Sportu i Rekreacji":MAILTO:centrum@osirsrodaslaska.pl
END:VEVENT
BEGIN:VEVENT
DTSTART;VALUE=DATE:20260607
DTEND;VALUE=DATE:20260608
DTSTAMP:20260421T172752
CREATED:20260116T114149Z
LAST-MODIFIED:20260116T114149Z
UID:27944-1780790400-1780876799@srodaslaska.pl
SUMMARY:Rowerowa Gra Terenowa
DESCRIPTION:
URL:https://srodaslaska.pl/event/rowerowa-gra-terenowa/
LOCATION:Ośrodek Sportu i Rekreacji\, ul. Winogronowa 34\, Środa Śląska\, 55-300\, Poland
ORGANIZER;CN="O%C5%9Brodek Sportu i Rekreacji":MAILTO:centrum@osirsrodaslaska.pl
END:VEVENT
BEGIN:VEVENT
DTSTART;VALUE=DATE:20260621
DTEND;VALUE=DATE:20260622
DTSTAMP:20260421T172752
CREATED:20260116T114237Z
LAST-MODIFIED:20260116T114237Z
UID:27946-1782000000-1782086399@srodaslaska.pl
SUMMARY:Turniej Piłki Nożnej Dzieci i Młodzieży\, Memoriał Janusza Borowego
DESCRIPTION:
URL:https://srodaslaska.pl/event/turniej-pilki-noznej-dzieci-i-mlodziezy-memorial-janusza-borowego/
LOCATION:Ośrodek Sportu i Rekreacji\, ul. Winogronowa 34\, Środa Śląska\, 55-300\, Poland
ORGANIZER;CN="O%C5%9Brodek Sportu i Rekreacji":MAILTO:centrum@osirsrodaslaska.pl
END:VEVENT
BEGIN:VEVENT
DTSTART;VALUE=DATE:20260621
DTEND;VALUE=DATE:20260622
DTSTAMP:20260421T172752
CREATED:20260116T114308Z
LAST-MODIFIED:20260116T114308Z
UID:27948-1782000000-1782086399@srodaslaska.pl
SUMMARY:Powitanie lata na sportowo
DESCRIPTION:
URL:https://srodaslaska.pl/event/powitanie-lata-na-sportowo/
LOCATION:Ośrodek Sportu i Rekreacji\, ul. Winogronowa 34\, Środa Śląska\, 55-300\, Poland
ORGANIZER;CN="O%C5%9Brodek Sportu i Rekreacji":MAILTO:centrum@osirsrodaslaska.pl
END:VEVENT
BEGIN:VEVENT
DTSTART;VALUE=DATE:20260808
DTEND;VALUE=DATE:20260809
DTSTAMP:20260421T172752
CREATED:20260116T114340Z
LAST-MODIFIED:20260116T114340Z
UID:27950-1786147200-1786233599@srodaslaska.pl
SUMMARY:III Bieg Wirtualny z cyklu Poznaj historię Skarbu Średzkiego "Operacja Korona 1985 r.-1988 r."
DESCRIPTION:
URL:https://srodaslaska.pl/event/iii-bieg-wirtualny-z-cyklu-poznaj-historie-skarbu-sredzkiego-operacja-korona-1985-r-1988-r/
END:VEVENT
BEGIN:VEVENT
DTSTART;VALUE=DATE:20260808
DTEND;VALUE=DATE:20260809
DTSTAMP:20260421T172752
CREATED:20260116T114420Z
LAST-MODIFIED:20260116T114420Z
UID:27952-1786147200-1786233599@srodaslaska.pl
SUMMARY:24-godzinny Rajd Rowerowy
DESCRIPTION:
URL:https://srodaslaska.pl/event/24-godzinny-rajd-rowerowy/
LOCATION:Ośrodek Sportu i Rekreacji\, ul. Winogronowa 34\, Środa Śląska\, 55-300\, Poland
ORGANIZER;CN="O%C5%9Brodek Sportu i Rekreacji":MAILTO:centrum@osirsrodaslaska.pl
END:VEVENT
BEGIN:VEVENT
DTSTART;VALUE=DATE:20260814
DTEND;VALUE=DATE:20260815
DTSTAMP:20260421T172752
CREATED:20260116T114511Z
LAST-MODIFIED:20260116T114511Z
UID:27954-1786665600-1786751999@srodaslaska.pl
SUMMARY:Święto Wojska Polskiego\, koncert Wojskowej Orkiestry Dętej
DESCRIPTION:
URL:https://srodaslaska.pl/event/swieto-wojska-polskiego-koncert-wojskowej-orkiestry-detej/
LOCATION:Rynek Dolny\, Środa Śląska
END:VEVENT
BEGIN:VEVENT
DTSTART;VALUE=DATE:20260822
DTEND;VALUE=DATE:20260823
DTSTAMP:20260421T172752
CREATED:20260116T114701Z
LAST-MODIFIED:20260116T114701Z
UID:27956-1787356800-1787443199@srodaslaska.pl
SUMMARY:Turniej Siatkówki Plażowej
DESCRIPTION:
URL:https://srodaslaska.pl/event/turniej-siatkowki-plazowej/
LOCATION:Ośrodek Sportu i Rekreacji\, ul. Winogronowa 34\, Środa Śląska\, 55-300\, Poland
ORGANIZER;CN="O%C5%9Brodek Sportu i Rekreacji":MAILTO:centrum@osirsrodaslaska.pl
END:VEVENT
BEGIN:VEVENT
DTSTART;VALUE=DATE:20260823
DTEND;VALUE=DATE:20260824
DTSTAMP:20260421T172752
CREATED:20260116T114746Z
LAST-MODIFIED:20260116T114746Z
UID:27958-1787443200-1787529599@srodaslaska.pl
SUMMARY:II Targi Sportu i Rekreacji
DESCRIPTION:
URL:https://srodaslaska.pl/event/ii-targi-sportu-i-rekreacji/
LOCATION:Ośrodek Sportu i Rekreacji\, ul. Winogronowa 34\, Środa Śląska\, 55-300\, Poland
ORGANIZER;CN="O%C5%9Brodek Sportu i Rekreacji":MAILTO:centrum@osirsrodaslaska.pl
END:VEVENT
BEGIN:VEVENT
DTSTART;VALUE=DATE:20260829
DTEND;VALUE=DATE:20260830
DTSTAMP:20260421T172752
CREATED:20260116T114900Z
LAST-MODIFIED:20260116T114900Z
UID:27960-1787961600-1788047999@srodaslaska.pl
SUMMARY:Dożynki Gminne
DESCRIPTION:
URL:https://srodaslaska.pl/event/dozynki-gminne/
LOCATION:Świetlica Wiejska w Krynicznie\, Kryniczno 35\, Kryniczno\, dolnośląskie\, 55-300\, Poland
ORGANIZER;CN="Dom Kultury w %C5%9Arodzie %C5%9Al%C4%85skiej":MAILTO:dk@srodaslaska.pl
END:VEVENT
BEGIN:VEVENT
DTSTART;TZID=Europe/Warsaw:20260829T080000
DTEND;TZID=Europe/Warsaw:20260829T170000
DTSTAMP:20260421T172752
CREATED:20260116T114938Z
LAST-MODIFIED:20260116T114938Z
UID:27962-1787990400-1788022800@srodaslaska.pl
SUMMARY:Turniej Sołectw (Dożynki Gminne)
DESCRIPTION:
URL:https://srodaslaska.pl/event/turniej-solectw-dozynki-gminne/
LOCATION:Świetlica Wiejska w Krynicznie\, Kryniczno 35\, Kryniczno\, dolnośląskie\, 55-300\, Poland
ORGANIZER;CN="O%C5%9Brodek Sportu i Rekreacji":MAILTO:centrum@osirsrodaslaska.pl
END:VEVENT
BEGIN:VEVENT
DTSTART;VALUE=DATE:20260905
DTEND;VALUE=DATE:20260906
DTSTAMP:20260421T172752
CREATED:20260116T115008Z
LAST-MODIFIED:20260116T115008Z
UID:27964-1788566400-1788652799@srodaslaska.pl
SUMMARY:Narodowe Czytanie - ogólnopolska akcja promująca czytelnictwo
DESCRIPTION:
URL:https://srodaslaska.pl/event/narodowe-czytanie-ogolnopolska-akcja-promujaca-czytelnictwo/
LOCATION:Biblioteka Publiczna w Środzie Śląskiej\, Plac Wolności 58\, Środa Śląska\, 55-300\, Poland
END:VEVENT
BEGIN:VEVENT
DTSTART;VALUE=DATE:20260913
DTEND;VALUE=DATE:20260914
DTSTAMP:20260421T172752
CREATED:20260116T115056Z
LAST-MODIFIED:20260116T115056Z
UID:27966-1789257600-1789343999@srodaslaska.pl
SUMMARY:Święto Wina w Mieście Skarbów
DESCRIPTION:
URL:https://srodaslaska.pl/event/swieto-wina-w-miescie-skarbow-2/
LOCATION:Rynek Dolny\, Środa Śląska
ORGANIZER;CN="Dom Kultury w %C5%9Arodzie %C5%9Al%C4%85skiej":MAILTO:dk@srodaslaska.pl
END:VEVENT
BEGIN:VEVENT
DTSTART;VALUE=DATE:20260913
DTEND;VALUE=DATE:20260914
DTSTAMP:20260421T172752
CREATED:20260116T115135Z
LAST-MODIFIED:20260116T115135Z
UID:27968-1789257600-1789343999@srodaslaska.pl
SUMMARY:HMT 8. Bieg o Skarb Średzki
DESCRIPTION:
URL:https://srodaslaska.pl/event/hmt-8-bieg-o-skarb-sredzki/
LOCATION:Rynek Dolny\, Środa Śląska
ORGANIZER;CN="O%C5%9Brodek Sportu i Rekreacji":MAILTO:centrum@osirsrodaslaska.pl
END:VEVENT
BEGIN:VEVENT
DTSTART;VALUE=DATE:20260917
DTEND;VALUE=DATE:20260918
DTSTAMP:20260421T172752
CREATED:20260116T115228Z
LAST-MODIFIED:20260116T115228Z
UID:27970-1789603200-1789689599@srodaslaska.pl
SUMMARY:Dzień Sybiraka
DESCRIPTION:
URL:https://srodaslaska.pl/event/dzien-sybiraka/
LOCATION:Rynek Dolny\, Środa Śląska
END:VEVENT
BEGIN:VEVENT
DTSTART;VALUE=DATE:20261011
DTEND;VALUE=DATE:20261012
DTSTAMP:20260421T172752
CREATED:20260116T115325Z
LAST-MODIFIED:20260116T115325Z
UID:27972-1791676800-1791763199@srodaslaska.pl
SUMMARY:Dzień Profilaktyki Raka Piersi
DESCRIPTION:
URL:https://srodaslaska.pl/event/dzien-profilaktyki-raka-piersi/
LOCATION:Ośrodek Sportu i Rekreacji\, ul. Winogronowa 34\, Środa Śląska\, 55-300\, Poland
ORGANIZER;CN="O%C5%9Brodek Sportu i Rekreacji":MAILTO:centrum@osirsrodaslaska.pl
END:VEVENT
BEGIN:VEVENT
DTSTART;VALUE=DATE:20261016
DTEND;VALUE=DATE:20261017
DTSTAMP:20260421T172752
CREATED:20260116T115357Z
LAST-MODIFIED:20260116T115357Z
UID:27974-1792108800-1792195199@srodaslaska.pl
SUMMARY:Noc Bibliotek - XII edycja ogólnopolskiej akcji promującej czytelnictwo
DESCRIPTION:
URL:https://srodaslaska.pl/event/noc-bibliotek-xii-edycja-ogolnopolskiej-akcji-promujacej-czytelnictwo/
LOCATION:Biblioteka Publiczna w Środzie Śląskiej\, Plac Wolności 58\, Środa Śląska\, 55-300\, Poland
END:VEVENT
BEGIN:VEVENT
DTSTART;VALUE=DATE:20261031
DTEND;VALUE=DATE:20261101
DTSTAMP:20260421T172752
CREATED:20260116T115425Z
LAST-MODIFIED:20260116T115425Z
UID:27977-1793404800-1793491199@srodaslaska.pl
SUMMARY:Halloween z OSiR
DESCRIPTION:
URL:https://srodaslaska.pl/event/halloween-z-osir/
LOCATION:Ośrodek Sportu i Rekreacji\, ul. Winogronowa 34\, Środa Śląska\, 55-300\, Poland
ORGANIZER;CN="O%C5%9Brodek Sportu i Rekreacji":MAILTO:centrum@osirsrodaslaska.pl
END:VEVENT
BEGIN:VEVENT
DTSTART;VALUE=DATE:20261107
DTEND;VALUE=DATE:20261108
DTSTAMP:20260421T172752
CREATED:20260120T084150Z
LAST-MODIFIED:20260120T084150Z
UID:27996-1794009600-1794095999@srodaslaska.pl
SUMMARY:I Gala Sportów Walki
DESCRIPTION:
URL:https://srodaslaska.pl/event/i-gala-sportow-walki/
LOCATION:Ośrodek Sportu i Rekreacji\, ul. Winogronowa 34\, Środa Śląska\, 55-300\, Poland
ORGANIZER;CN="O%C5%9Brodek Sportu i Rekreacji":MAILTO:centrum@osirsrodaslaska.pl
END:VEVENT
BEGIN:VEVENT
DTSTART;VALUE=DATE:20261111
DTEND;VALUE=DATE:20261112
DTSTAMP:20260421T172752
CREATED:20260116T120654Z
LAST-MODIFIED:20260116T120654Z
UID:27979-1794355200-1794441599@srodaslaska.pl
SUMMARY:11 000 Kroków oraz 11 km dla Niepodległej
DESCRIPTION:
URL:https://srodaslaska.pl/event/11-000-krokow-oraz-11-km-dla-niepodleglej/
LOCATION:gmina Środa Śląska\, Środa Śląska\, 55-300\, Poland
END:VEVENT
BEGIN:VEVENT
DTSTART;VALUE=DATE:20261206
DTEND;VALUE=DATE:20261207
DTSTAMP:20260421T172752
CREATED:20260120T084220Z
LAST-MODIFIED:20260120T084239Z
UID:27998-1796515200-1796601599@srodaslaska.pl
SUMMARY:Mikołajki w Średzkim Parku Wodnym
DESCRIPTION:
URL:https://srodaslaska.pl/event/mikolajki-w-sredzkim-parku-wodnym/
LOCATION:Średzki Park Wodny\, ul. Winogronowa 34\, Środa Śląska\, 55-300\, Poland
ORGANIZER;CN="O%C5%9Brodek Sportu i Rekreacji":MAILTO:centrum@osirsrodaslaska.pl
END:VEVENT
BEGIN:VEVENT
DTSTART;VALUE=DATE:20261206
DTEND;VALUE=DATE:20261207
DTSTAMP:20260421T172752
CREATED:20260120T084308Z
LAST-MODIFIED:20260120T084308Z
UID:28000-1796515200-1796601599@srodaslaska.pl
SUMMARY:Otwarcie Lodowiska
DESCRIPTION:
URL:https://srodaslaska.pl/event/otwarcie-lodowiska/
LOCATION:Ośrodek Sportu i Rekreacji\, ul. Winogronowa 34\, Środa Śląska\, 55-300\, Poland
ORGANIZER;CN="O%C5%9Brodek Sportu i Rekreacji":MAILTO:centrum@osirsrodaslaska.pl
END:VEVENT
END:VCALENDAR